BEGIN:VCALENDAR
VERSION:2.0
PRODID:-//VC Le guidon - ECPv6.15.12.2//NONSGML v1.0//EN
CALSCALE:GREGORIAN
METHOD:PUBLISH
X-WR-CALNAME:VC Le guidon
X-ORIGINAL-URL:https://www.vcleguidon.be
X-WR-CALDESC:Events for VC Le guidon
REFRESH-INTERVAL;VALUE=DURATION:PT1H
X-Robots-Tag:noindex
X-PUBLISHED-TTL:PT1H
BEGIN:VTIMEZONE
TZID:UTC
BEGIN:STANDARD
TZOFFSETFROM:+0000
TZOFFSETTO:+0000
TZNAME:UTC
DTSTART:20230101T000000
END:STANDARD
END:VTIMEZONE
BEGIN:VEVENT
DTSTART;TZID=UTC:20250209T093000
DTEND;TZID=UTC:20250209T120000
DTSTAMP:20260421T161910
CREATED:20250206T105526Z
LAST-MODIFIED:20250206T105526Z
UID:5497-1739093400-1739102400@www.vcleguidon.be
SUMMARY:Reco parcours
DESCRIPTION:Route reconnaissance du premier parcours de la saison \nParcours : 66K – 395D+
URL:https://www.vcleguidon.be/agenda/reco-parcours/
LOCATION:Relais Saint -Martin\, Rue de Beauvechain 56\, Beauvechain\, 1320\, Belgique
CATEGORIES:Sortie hivernale
END:VEVENT
BEGIN:VEVENT
DTSTART;TZID=UTC:20250202T093000
DTEND;TZID=UTC:20250202T120000
DTSTAMP:20260421T161910
CREATED:20250130T201143Z
LAST-MODIFIED:20250203T140125Z
UID:5484-1738488600-1738497600@www.vcleguidon.be
SUMMARY:Tour d'hiver - Hoegaarden - Landen -vélo de route
DESCRIPTION:Parcours \nDépart du parking intermarché Hamme Mille comme le groupe Gravel
URL:https://www.vcleguidon.be/agenda/tour-dhiver-hoegaarden-landen-velo-de-route/
LOCATION:Intermarché Hamme-Mille\, Rue des Épinoches 5\, 1320 Beauvechain\, Belgium
CATEGORIES:Sortie hivernale
END:VEVENT
BEGIN:VEVENT
DTSTART;TZID=UTC:20250202T093000
DTEND;TZID=UTC:20250202T120000
DTSTAMP:20260421T161910
CREATED:20250130T200455Z
LAST-MODIFIED:20250203T140132Z
UID:5482-1738488600-1738497600@www.vcleguidon.be
SUMMARY:Gravel Meerdael - Boutersem
DESCRIPTION:Parcours \nParcours varié forêt-champs\, quelques passages boueux à prévoir.
URL:https://www.vcleguidon.be/agenda/gravel-meerdael-boutersem/
LOCATION:Intermarché Hamme-Mille\, Rue des Épinoches 5\, 1320 Beauvechain\, Belgium
CATEGORIES:Sortie Gravel
END:VEVENT
BEGIN:VEVENT
DTSTART;TZID=UTC:20250126T093000
DTEND;TZID=UTC:20250126T120000
DTSTAMP:20260421T161910
CREATED:20250123T190734Z
LAST-MODIFIED:20250203T140139Z
UID:5479-1737883800-1737892800@www.vcleguidon.be
SUMMARY:Tour d'hiver - Thorembais - 65km
DESCRIPTION:Parcours \ntour d’hiver\, 65 km et 400 D+\, vélo de route (vélo de gravel possible) pour sortir de l’hibernation.
URL:https://www.vcleguidon.be/agenda/tour-dhiver-thorembais-65km/
LOCATION:Relais Saint -Martin\, Rue de Beauvechain 56\, Beauvechain\, 1320\, Belgique
CATEGORIES:Sortie hivernale
END:VEVENT
BEGIN:VEVENT
DTSTART;TZID=UTC:20250112T100000
DTEND;TZID=UTC:20250112T120000
DTSTAMP:20260421T161910
CREATED:20250106T163925Z
LAST-MODIFIED:20250106T163925Z
UID:5452-1736676000-1736683200@www.vcleguidon.be
SUMMARY:Gravel Hoegaarden
DESCRIPTION:Parcours
URL:https://www.vcleguidon.be/agenda/gravel-hoegaarden/
LOCATION:Intermarché Hamme-Mille\, Rue des Épinoches 5\, 1320 Beauvechain\, Belgium
CATEGORIES:Sortie Gravel
END:VEVENT
BEGIN:VEVENT
DTSTART;TZID=UTC:20250105T100000
DTEND;TZID=UTC:20250105T120000
DTSTAMP:20260421T161910
CREATED:20250104T101006Z
LAST-MODIFIED:20250203T140145Z
UID:5450-1736071200-1736078400@www.vcleguidon.be
SUMMARY:Gravel - Chaumont
DESCRIPTION:Parcours
URL:https://www.vcleguidon.be/agenda/gravel-chaumont/
LOCATION:Intermarché Hamme-Mille\, Rue des Épinoches 5\, 1320 Beauvechain\, Belgium
CATEGORIES:Sortie Gravel
END:VEVENT
BEGIN:VEVENT
DTSTART;TZID=UTC:20241229T093000
DTEND;TZID=UTC:20241229T120000
DTSTAMP:20260421T161910
CREATED:20241211T150422Z
LAST-MODIFIED:20241211T150422Z
UID:5442-1735464600-1735473600@www.vcleguidon.be
SUMMARY:Gravel - Bierbeek
DESCRIPTION:Parcours \nPeu de dénivelé\, surfaces dures pour la plupart\, quelques passages boueux.
URL:https://www.vcleguidon.be/agenda/gravel-bierbeek/
LOCATION:Intermarché Hamme-Mille\, Rue des Épinoches 5\, 1320 Beauvechain\, Belgium
CATEGORIES:Sortie Gravel
END:VEVENT
BEGIN:VEVENT
DTSTART;TZID=UTC:20241222T093000
DTEND;TZID=UTC:20241222T120000
DTSTAMP:20260421T161910
CREATED:20241116T180520Z
LAST-MODIFIED:20241218T102459Z
UID:5361-1734859800-1734868800@www.vcleguidon.be
SUMMARY:Gravel - route des chapelles
DESCRIPTION:Route des chapelles du bois de Meerdaal. 42 km\, 420 D+ \nParcours
URL:https://www.vcleguidon.be/agenda/gravel-route-des-chapelles/
LOCATION:Intermarché Hamme-Mille\, Rue des Épinoches 5\, 1320 Beauvechain\, Belgium
CATEGORIES:Sortie Gravel
END:VEVENT
BEGIN:VEVENT
DTSTART;TZID=UTC:20241215T093000
DTEND;TZID=UTC:20241215T120000
DTSTAMP:20260421T161910
CREATED:20241116T175853Z
LAST-MODIFIED:20241116T180006Z
UID:5357-1734255000-1734264000@www.vcleguidon.be
SUMMARY:Gravel - Overijse
DESCRIPTION:Circuit vallonné\, surfaces dures en général. 48 km\, 460 D+ \nPARCOURS
URL:https://www.vcleguidon.be/agenda/gravel-overijse/
LOCATION:Intermarché Hamme-Mille\, Rue des Épinoches 5\, 1320 Beauvechain\, Belgium
CATEGORIES:Sortie Gravel
END:VEVENT
BEGIN:VEVENT
DTSTART;TZID=UTC:20241208T093000
DTEND;TZID=UTC:20241208T120000
DTSTAMP:20260421T161910
CREATED:20241116T173944Z
LAST-MODIFIED:20241116T173944Z
UID:5355-1733650200-1733659200@www.vcleguidon.be
SUMMARY:Gravel Oorbeek
DESCRIPTION:route digestive le lendemain de la tombola \nPARCOURS
URL:https://www.vcleguidon.be/agenda/gravel-oorbeek/
LOCATION:Intermarché Hamme-Mille\, Rue des Épinoches 5\, 1320 Beauvechain\, Belgium
CATEGORIES:Sortie Gravel
END:VEVENT
BEGIN:VEVENT
DTSTART;TZID=UTC:20241207T180000
DTEND;TZID=UTC:20241207T233000
DTSTAMP:20260421T161910
CREATED:20231120T182853Z
LAST-MODIFIED:20241119T162433Z
UID:3590-1733594400-1733614200@www.vcleguidon.be
SUMMARY:Souper Tombola
DESCRIPTION:Venez nombreux le samedi 7 décembre pour participer à notre souper tombola\net soutenir notre club dans une ambiance conviviale! 🍂✨ \n📍 Lieu : Salle communale des Fêtes\, rue Auguste Goemans\, 20 à Hamme-Mille\n⏰ Heure : 18h \n Au menu : \n🍗 Demi poulet fermier-frites\n🥩 Américain-frites\n🍾 Et un verre de cava offert !\n🍫 Dessert compris (mousse au chocolat) \n Prix : 25 euros \nMenu enfant 15€ (jusqu’à 12 ans) \n🍗 Cuisse de poulet fermier-frites\n🥩 Américain-frites\n🍫 Dessert compris (mousse au chocolat) \n\n\nInscrivez-vous dès aujourd’hui via le formulaire ci-dessous! \n👉 Date limite : lundi 2 décembre (clôture des inscriptions) \nMode de paiement : Virement bancaire encouragé avant l’événement sur le compte : \nVC Le Guidon : BE71 9734 3296 3069  avec en communication : prénom + nom + souper tombola 7 décembre. \nPossibilité de payer sur place. \nAu programme :\n📸 Diaporama de nos sorties vélo\n🎤 Discours du Président\n🤝 Présentation de nos sponsors\n🎟️ Tirage au sort de la tombola \n… \nNe manquez pas cette belle soirée\, rires\, souvenirs et surprises vous attendent! \n\nVeuillez activer JavaScript dans votre navigateur pour remplir ce formulaire.Nom *PrénomNomE-mail *Téléphone *Profil *Je suis membre du VC Le GuidonJe ne suis pas membre du VC Le GuidonJe serai accompagné de :Non\, juste moi 🙂+1+2+3+4+5Nombre de Demi poulet fermier/frites012345678910Nombre d'Américain/frites012345678910Nombre de Cuisse de poulet fermier/frites MENU ENFANT (jusqu'à 12 ans)012345678910Nombre d'Américain/frites MENU ENFANT (jusqu'à 12 ans)012345678910Remarque/désidératas\, ...Je suis disponible pour aider (plusieurs cases peuvent être cochées):Pour la mise en place le vendredi 6/12 de 14h à 16hPour la mise en place le samedi 7/2 de 10h à 12hPour aider aux préparations en cuisine pour le samedi 7/12 de 15h à 17hPour préparer les frites en cuisine le 7/12Pour dresser les assiettes en cuisine le 7/12Pour la plonge le 7/12Pour le service le 7/12Pour aider au bar le 7/12Pour le rangement le 7/12 après le repasPour le rangement le 8/12 à 10hTotal 0\,00 €À régler sur le compte du VC Le Guidon BE71 9734 3296 3069  avec en communication : prénom + nom + souper tombola 7 décembre.Envoyer
URL:https://www.vcleguidon.be/agenda/souper-tombola/
LOCATION:Salle communal Hamme-Mille\, rue Auguste Goemans 20A\, Hamme-Mille\, Brabant Wallon\, 1320\, Belgium
CATEGORIES:Événement
END:VEVENT
BEGIN:VEVENT
DTSTART;TZID=UTC:20241201T100000
DTEND;TZID=UTC:20241201T123000
DTSTAMP:20260421T161910
CREATED:20241104T062205Z
LAST-MODIFIED:20241105T080714Z
UID:5339-1733047200-1733056200@www.vcleguidon.be
SUMMARY:Tour d'hiver
DESCRIPTION:Parcours
URL:https://www.vcleguidon.be/agenda/tour-dhiver-5/
LOCATION:Relais Saint -Martin\, Rue de Beauvechain 56\, Beauvechain\, 1320\, Belgique
CATEGORIES:Sortie hivernale
END:VEVENT
BEGIN:VEVENT
DTSTART;TZID=UTC:20241201T093000
DTEND;TZID=UTC:20241201T120000
DTSTAMP:20260421T161910
CREATED:20241105T140228Z
LAST-MODIFIED:20241125T093134Z
UID:5346-1733045400-1733054400@www.vcleguidon.be
SUMMARY:Gravel La Hulpe
DESCRIPTION:Report du parcours de 24 novembre suite conditions météo \nParcours \nSurfaces dures\, parcours roulant\, attention dénivelé
URL:https://www.vcleguidon.be/agenda/gravel-incourt/
LOCATION:Intermarché Hamme-Mille\, Rue des Épinoches 5\, 1320 Beauvechain\, Belgium
CATEGORIES:Sortie Gravel
END:VEVENT
BEGIN:VEVENT
DTSTART;TZID=UTC:20241124T100000
DTEND;TZID=UTC:20241124T123000
DTSTAMP:20260421T161910
CREATED:20241104T062115Z
LAST-MODIFIED:20241105T080635Z
UID:5337-1732442400-1732451400@www.vcleguidon.be
SUMMARY:Tour d'hiver
DESCRIPTION:Parcours
URL:https://www.vcleguidon.be/agenda/tour-dhiver-4/
LOCATION:Relais Saint -Martin\, Rue de Beauvechain 56\, Beauvechain\, 1320\, Belgique
CATEGORIES:Sortie hivernale
END:VEVENT
BEGIN:VEVENT
DTSTART;TZID=UTC:20241124T093000
DTEND;TZID=UTC:20241124T120000
DTSTAMP:20260421T161910
CREATED:20241102T134224Z
LAST-MODIFIED:20241102T135422Z
UID:5321-1732440600-1732449600@www.vcleguidon.be
SUMMARY:Gravel - La Hulpe
DESCRIPTION:Parcours : La Hulpe \nRoulant avec D+ \n56k – 560D+
URL:https://www.vcleguidon.be/agenda/gravel-la-hulpe/
LOCATION:Intermarché Hamme-Mille\, Rue des Épinoches 5\, 1320 Beauvechain\, Belgium
CATEGORIES:Sortie Gravel
END:VEVENT
BEGIN:VEVENT
DTSTART;TZID=UTC:20241117T100000
DTEND;TZID=UTC:20241117T123000
DTSTAMP:20260421T161910
CREATED:20241104T062000Z
LAST-MODIFIED:20241105T080542Z
UID:5335-1731837600-1731846600@www.vcleguidon.be
SUMMARY:Tour d'hiver
DESCRIPTION:Parcours
URL:https://www.vcleguidon.be/agenda/tour-dhiver-3/
LOCATION:Relais Saint -Martin\, Rue de Beauvechain 56\, Beauvechain\, 1320\, Belgique
CATEGORIES:Sortie hivernale
END:VEVENT
BEGIN:VEVENT
DTSTART;TZID=UTC:20241117T093000
DTEND;TZID=UTC:20241117T120000
DTSTAMP:20260421T161910
CREATED:20241102T140213Z
LAST-MODIFIED:20241102T140213Z
UID:5326-1731835800-1731844800@www.vcleguidon.be
SUMMARY:Gravel Melin
DESCRIPTION:Parcours vers Meldert – Melin – Piétrebais – Nethen. \nRelativement roulant – pavés. \n51k – 453D+
URL:https://www.vcleguidon.be/agenda/gravel-melin/
LOCATION:Intermarché Hamme-Mille\, Rue des Épinoches 5\, 1320 Beauvechain\, Belgium
CATEGORIES:Sortie Gravel
END:VEVENT
BEGIN:VEVENT
DTSTART;TZID=UTC:20241110T100000
DTEND;TZID=UTC:20241110T123000
DTSTAMP:20260421T161910
CREATED:20241104T061832Z
LAST-MODIFIED:20241105T080448Z
UID:5333-1731232800-1731241800@www.vcleguidon.be
SUMMARY:Tour d'hiver
DESCRIPTION:Parcours
URL:https://www.vcleguidon.be/agenda/tour-dhiver-2/
LOCATION:Relais Saint -Martin\, Rue de Beauvechain 56\, Beauvechain\, 1320\, Belgique
CATEGORIES:Sortie hivernale
END:VEVENT
BEGIN:VEVENT
DTSTART;TZID=UTC:20241110T093000
DTEND;TZID=UTC:20241110T120000
DTSTAMP:20260421T161910
CREATED:20241102T132303Z
LAST-MODIFIED:20241102T133827Z
UID:5313-1731231000-1731240000@www.vcleguidon.be
SUMMARY:Gravel Meerdael - Heverlee
DESCRIPTION:Départ 9H30 \nParking Intermarché Hamme-Mille \nParcours:  basé sur celui du Championnat du Monde organisé récemment. Mais nul besoin de s’appeler Matthieu VDP ;-). \n50km – 420D+ \nParcours roulant \nAuteur : Alex Delaigue
URL:https://www.vcleguidon.be/agenda/gravel-10-novembre/
LOCATION:Intermarché Hamme-Mille\, Rue des Épinoches 5\, 1320 Beauvechain\, Belgium
CATEGORIES:Sortie Gravel
END:VEVENT
BEGIN:VEVENT
DTSTART;TZID=UTC:20241103T100000
DTEND;TZID=UTC:20241103T130000
DTSTAMP:20260421T161910
CREATED:20241031T102419Z
LAST-MODIFIED:20241103T070427Z
UID:5254-1730628000-1730638800@www.vcleguidon.be
SUMMARY:Tour Didier
DESCRIPTION:Parcours
URL:https://www.vcleguidon.be/agenda/tour-dhiver/
LOCATION:La Renaissance\, Rue de l'Eglise Saint-Sulpice 5\, Beauvechain\, 1320\, Belgique
CATEGORIES:Sortie hivernale
END:VEVENT
BEGIN:VEVENT
DTSTART;TZID=UTC:20241103T090000
DTEND;TZID=UTC:20241103T123000
DTSTAMP:20260421T161910
CREATED:20241103T070531Z
LAST-MODIFIED:20241103T070531Z
UID:5330-1730624400-1730637000@www.vcleguidon.be
SUMMARY:Tour Serge
DESCRIPTION:Parcours
URL:https://www.vcleguidon.be/agenda/tour-serge/
LOCATION:Relais Saint -Martin\, Rue de Beauvechain 56\, Beauvechain\, 1320\, Belgique
CATEGORIES:Sortie hivernale
END:VEVENT
BEGIN:VEVENT
DTSTART;TZID=UTC:20241027T130000
DTEND;TZID=UTC:20241027T170000
DTSTAMP:20260421T161910
CREATED:20231120T182747Z
LAST-MODIFIED:20241018T164401Z
UID:3588-1730034000-1730048400@www.vcleguidon.be
SUMMARY:Spaghetti de fin de saison
DESCRIPTION:Bonjour à tous\, \n\nla dernière sortie à l’agenda s’annonce  ce dimanche 27 octobre et avec elle\, notre traditionnel déjeuner de fin de saison.\n\nNous vous proposons\, comme l’année dernière\,  de nous réunir chez notre sponsor\, Volare à 14 heures.  Cela nous offrira le loisir de prendre aussi un verre chez Charly pour le remercier de son indéfectible soutien.\n\nLe menu évolue 🙂 Lasagne ou Raviolis épinards + Tiramisu ou Panna cotta (20€ hors boissons)\n\nL’apéro sera offert par le club (cycliste et accompagnant)\n\nMerci de CONFIRMER VOTRE PRÉSENCE AU PLUS TARD LE 18 OCTOBRE 2024 via le formulaire ci-dessous.  Le restaurant restant ouvert spécialement pour nous\, un minima de 20 participants est requis.\n\nEspérant vous y voir très nombreux :-)))\n\nLe comité\n\nINSCRITS : Julie Barth\, Serge Taillet\, Luc D’Hondt (+1)\, Philippe Lahaye\, Christian Poblome\, Jasper Deneyer (+2)\, Christian Baens (+1)\,  Didier Vaneberg (+1)\, Xavier Morel\, Jean-Christophe Pollet\, Véronique Senterre\, Norbert Van Renterghem (+1)\, Danny Op’Eynde\, Philippe Ancion (+1)\, Bernard Michaux\, Eric Reniers\, Alain Vaessen\, Maxim Buts (+3)\, Kevin Tossens\, Ann Diericx\, Sébastien Verstraelen\, José Deroloffe\, Gustave Verheyden (+1)\, Alain Vanderhoeven\n\nVeuillez activer JavaScript dans votre navigateur pour remplir ce formulaire.Nom *PrénomNomEmail *Participation *Je participeJe ne participe pasCombien d’invité(s) supplémentaire(s) amenez-vous ?Non\, juste moi+1+2+3Penne Volare gratinées01234Raviolis Ricotta & épinard01234Panna cotta01234Tiramisu01234Commentaire(s) ou question(s)Envoyer
URL:https://www.vcleguidon.be/agenda/spaghetti-de-fin-de-saison/
CATEGORIES:Événement
END:VEVENT
BEGIN:VEVENT
DTSTART;TZID=UTC:20241027T090000
DTEND;TZID=UTC:20241027T123000
DTSTAMP:20260421T161910
CREATED:20240917T082818Z
LAST-MODIFIED:20240917T082907Z
UID:4859-1730019600-1730032200@www.vcleguidon.be
SUMMARY:36 I Kampenhout-Kwerps
DESCRIPTION:Parcours Touriste\nParcours Cyclo\nParcours Sport
URL:https://www.vcleguidon.be/agenda/36-i-kampenhout-kwerps/
LOCATION:Relais Saint -Martin\, Rue de Beauvechain 56\, Beauvechain\, 1320\, Belgique
CATEGORIES:Sortie dominicale
END:VEVENT
BEGIN:VEVENT
DTSTART;TZID=UTC:20241020T090000
DTEND;TZID=UTC:20241020T123000
DTSTAMP:20260421T161910
CREATED:20240917T082616Z
LAST-MODIFIED:20240919T110832Z
UID:4857-1729414800-1729427400@www.vcleguidon.be
SUMMARY:35 I Alternative à l'initiation sur  piste
DESCRIPTION:Parcours
URL:https://www.vcleguidon.be/agenda/35-i-alternative-a-linitiation-sur-piste/
LOCATION:Relais Saint -Martin\, Rue de Beauvechain 56\, Beauvechain\, 1320\, Belgique
CATEGORIES:Sortie dominicale
END:VEVENT
BEGIN:VEVENT
DTSTART;TZID=UTC:20241013T100000
DTEND;TZID=UTC:20241013T123000
DTSTAMP:20260421T161910
CREATED:20240917T082330Z
LAST-MODIFIED:20241007T103343Z
UID:4853-1728813600-1728822600@www.vcleguidon.be
SUMMARY:34 I Incourt-Leuven
DESCRIPTION:DÉPART DIFFÉRÉ À 10 HEURES POUR CAUSE D’ÉLECTIONS \nParcours Touriste\nParcours Cyclo\nParcours Sport
URL:https://www.vcleguidon.be/agenda/34-i-ransberg/
LOCATION:Relais Saint -Martin\, Rue de Beauvechain 56\, Beauvechain\, 1320\, Belgique
CATEGORIES:Sortie dominicale
END:VEVENT
BEGIN:VEVENT
DTSTART;TZID=UTC:20241006T090000
DTEND;TZID=UTC:20241006T123000
DTSTAMP:20260421T161910
CREATED:20240917T081423Z
LAST-MODIFIED:20240917T081423Z
UID:4849-1728205200-1728217800@www.vcleguidon.be
SUMMARY:33 I Ramilies
DESCRIPTION:Parcours Touriste\nParcours Cyclo\nParcours Sport
URL:https://www.vcleguidon.be/agenda/33-i-ramilies/
LOCATION:Relais Saint -Martin\, Rue de Beauvechain 56\, Beauvechain\, 1320\, Belgique
CATEGORIES:Sortie dominicale
END:VEVENT
BEGIN:VEVENT
DTSTART;TZID=UTC:20240929T090000
DTEND;TZID=UTC:20240929T123000
DTSTAMP:20260421T161910
CREATED:20240924T131204Z
LAST-MODIFIED:20240924T131259Z
UID:4873-1727600400-1727613000@www.vcleguidon.be
SUMMARY:32 I Piétrain-Perwez
DESCRIPTION:Parcours Touriste\nParcours Cyclo\nParcours Sport
URL:https://www.vcleguidon.be/agenda/32-i-pietrain-perwez/
LOCATION:Relais Saint -Martin\, Rue de Beauvechain 56\, Beauvechain\, 1320\, Belgique
CATEGORIES:Sortie dominicale
END:VEVENT
BEGIN:VEVENT
DTSTART;TZID=UTC:20240922T090000
DTEND;TZID=UTC:20240922T123000
DTSTAMP:20260421T161910
CREATED:20240613T135238Z
LAST-MODIFIED:20240917T081612Z
UID:4308-1726995600-1727008200@www.vcleguidon.be
SUMMARY:31 I Randonnée Cycliste dans le cadre de la semaine de la mobilité
DESCRIPTION:Nous vous invitons à participer à la randonnée familiale encadrée de 18km organisée dans le cadre de la semaine de la mobilité.   Cette randonnée est GRATUITE et s’adresse à tous quelque soit votre âge.  Si vous le souhaitez\, vous pouvez également vous joindre aux sorties VC Le Guidon du jour : 60km- 21km/h\, 70km-25km/h\, 80km-27km/h. \nEn partenariat avec la Commune de Beauvechain. \nLieu de départ : Place communale\, 1320 Beauvechain \nHeure de départ : 09 heures \nParking : au Verger \nParcours avec possibilité de télécharger le fichier gpx \nMerci de vous inscrire via le formulaire ci-dessous avant le 20/09/2024. \nVeuillez activer JavaScript dans votre navigateur pour remplir ce formulaire.Nom *PrénomNomE-mail *Téléphone (+32xxxxxxx)Profil *Je suis membre du VC Le Guidon et me porte volontaire pour accompagner la randonnée de 18kmJe ne suis pas membre du VC Le GuidonChoix de la randonnée *Randonnée familiale de 18kmSortie VC Le Guidon 60km (vitesse du peloton 21-23km/h)Sortie VC Le Guidon 70km (vitesse du peloton 24-25km/h)Sortie VC Le Guidon 80km (vitesse du peloton 26-28km/h)Je me porte volontaire (plusieurs cases peuvent être cochées) :AccompagnateurResponsable techniqueJe serai accompagné de : *Non\, juste moi 🙂+1+2+3+4Nombre d'enfants de moins de 12 ans :Commentaire ou messageEnvoyer
URL:https://www.vcleguidon.be/agenda/31-randonnee-cycliste/
LOCATION:La Renaissance\, Rue de l'Eglise Saint-Sulpice 5\, Beauvechain\, 1320\, Belgique
CATEGORIES:Sortie spéciale
ORGANIZER;CN="Jean-Christophe Pollet":MAILTO:polletjeanchristophe@gmail.com
END:VEVENT
BEGIN:VEVENT
DTSTART;TZID=UTC:20240922T084500
DTEND;TZID=UTC:20240922T123000
DTSTAMP:20260421T161910
CREATED:20240909T120123Z
LAST-MODIFIED:20240917T081909Z
UID:4717-1726994700-1727008200@www.vcleguidon.be
SUMMARY:31 I Alternative à la Randonnée Cycliste dans le cadre de la semaine de la mobilité
DESCRIPTION:DÉPART  À 8 HEURES 45 DU PARKING DU RELAIS AFIN D’ÊTRE À 9 HEURES AU DÉPART DE LA RANDONNÉE  DE LA MOBILITÉ (PLACE COMMUNALE) POUR UNE PHOTO COLLECTIVE \nParcours Touriste\nParcours Cyclo\nParcours Sport
URL:https://www.vcleguidon.be/agenda/31-i-alternative-a-la-randonnee-speciale-dnas-le-cadre-de-la-semaine-de-la-mobilite/
LOCATION:Relais Saint -Martin\, Rue de Beauvechain 56\, Beauvechain\, 1320\, Belgique
CATEGORIES:Sortie dominicale
END:VEVENT
BEGIN:VEVENT
DTSTART;TZID=UTC:20240915T090000
DTEND;TZID=UTC:20240915T123000
DTSTAMP:20260421T161910
CREATED:20240909T115819Z
LAST-MODIFIED:20240909T115819Z
UID:4712-1726390800-1726403400@www.vcleguidon.be
SUMMARY:30 I Glabeek
DESCRIPTION:Parcours Touriste\nParcours Cyclo\nParcours Sport
URL:https://www.vcleguidon.be/agenda/30-i-glabeek/
LOCATION:Relais Saint -Martin\, Rue de Beauvechain 56\, Beauvechain\, 1320\, Belgique
CATEGORIES:Sortie dominicale
END:VEVENT
END:VCALENDAR