BEGIN:VCALENDAR
VERSION:2.0
PRODID:-//VC Le guidon - ECPv6.15.12.2//NONSGML v1.0//EN
CALSCALE:GREGORIAN
METHOD:PUBLISH
X-WR-CALNAME:VC Le guidon
X-ORIGINAL-URL:https://www.vcleguidon.be
X-WR-CALDESC:Events for VC Le guidon
REFRESH-INTERVAL;VALUE=DURATION:PT1H
X-Robots-Tag:noindex
X-PUBLISHED-TTL:PT1H
BEGIN:VTIMEZONE
TZID:UTC
BEGIN:STANDARD
TZOFFSETFROM:+0000
TZOFFSETTO:+0000
TZNAME:UTC
DTSTART:20240101T000000
END:STANDARD
END:VTIMEZONE
BEGIN:VEVENT
DTSTART;TZID=UTC:20250628T080000
DTEND;TZID=UTC:20250705T170000
DTSTAMP:20260421T161040
CREATED:20250525T184959Z
LAST-MODIFIED:20250607T182221Z
UID:5847-1751097600-1751734800@www.vcleguidon.be
SUMMARY:21 & 22 I Méjannes-le-Clap 2025
DESCRIPTION:Voyage organisé à l’initiative de Luc D’Hondt dans sa région d’adoption. \n14 parcours (7 Cyclos et 7 Sports) sont proposés. N’hésitez pas à contacter Luc pour tout complément d’information. \nrouteyou-mejannes-cyclo-16b-99km \nrouteyou-mejannes-cyclo-16a2-61km \n routeyou-mejannes-cyclo-15b-90km \n routeyou-mejannes-cyclo-13a-72km-836m-2 \n routeyou-mejannes-cyclo-16a-68km \n routeyou-mejannes-cyclo-15a-74km-852m \n routeyou-mejannes-cyclo-14b-86km \n routeyou-mejannes-cyclo-14a2-68km-840m \n routeyou-mejannes-cyclo-14a-76km-865m \n routeyou-mejannes-cyclo-13b-87km \n routeyou-mejannes-cyclo-12b-87km \n routeyou-mejannes-cyclo-12a-70km-830m \n routeyou-mejannes-cyclo-11b-97-km \n routeyou-mejannes-cyclo-11a-81km-970m \n 
URL:https://www.vcleguidon.be/agenda/mejannes-le-clap-2025/
LOCATION:Méjannes-le-Clap\, Méjannes-le-Clap\, 30430\, France
CATEGORIES:Événement
END:VEVENT
BEGIN:VEVENT
DTSTART;TZID=UTC:20250622T090000
DTEND;TZID=UTC:20250622T150000
DTSTAMP:20260421T161040
CREATED:20250212T100751Z
LAST-MODIFIED:20250607T182158Z
UID:5518-1750582800-1750604400@www.vcleguidon.be
SUMMARY:20 I Brussel's Tour
DESCRIPTION:Cette année\, nous vous proposons une inscription collective au BXL tour. \nINFOS & INSCRIPTIONS (AP Mars) \nLe BXL Tour\, la course cycliste de 40 km dans les rues de Bruxelles\, est de retour pour une 9e édition. Étant plutôt destiné aux cyclistes confirmés à son origine\, le BXL Tour est désormais de plus en plus accessible au grand public. Le parcours de 40 km à travers Bruxelles est l’occasion de découvrir la capitale de façon unique. \nDepuis 2022\, la catégorie Ride a été ajoutée au BXL Tour\, avec un parcours réduit à 32 km. Cette catégorie sans classement ouvre la course aux personnes voulant découvrir le parcours en mode balade ou avec un vélo électrique. \nINFOS PRATIQUES : \nDEPART:\nPlace des Palais\, accès via le Parc de Bruxelles \nLes départs sont prévus entre 09h00 et 09h50. \n09h00 : départ MASTER\n09h10 : départ CYCLO +35km/h   Inscrits : Fred Smal\, Steve Pas\, Kevin Tossens\n09h20 : départ CYCLO 30-35 km/h  Inscrits : Bruno Plantin-Carrenard\n09h30 : départ CYCLO 25-30 km/h  Inscrits : Christian Poblome\, Jean-Christophe Pollet\, Sébastien Verstraelen\, Alain Vanderhoeven\, Christophe Drouot\n09h40 : départ CYCLO 20-25 km/h et PARACYCLING  Inscrits : Eric Reniers\n09h50 : départ RIDE\nAfin de fluidifier les départs\, il est important que vous n’arriviez pas plus de 15 minutes avant votre horaire de départ. \nARRIVÉE \nÀ l’Atomium. \nLa remise des trophées de la catégorie Master\nLa remise des trophées des catégories Cyclo\, Baloise Sprint\, Lucien Group Challenge\, Paracycling\, BCF\nLa fin de la course est prévue vers 13h00.\nUn village festif\, plein d’activités\, vous accueillera. \nCatégorie MASTER :\nDistance: 40km\nVitesse moyenne min. : 40km/h\nÂge min. : 19 ans (ou aura 19 dans l’année de l’event)\nRemise de prix : sur base de la photo finish \nCatégorie CYCLO :\nDistance : 40km\nVitesse moyenne min. : 20km/h\nÂge min. : 12 ans (ou a 12 dans l’année de l’event)\nClassement : sur la base du chronométrage \nCatégorie RIDE :\nDistance : 32km\nVitesse moyenne min. : 16km/h\nÂge min. : 12 ans (ou a 12 dans l’année de l’event)\nRemise de prix : pas de remise de prix\nLes vélos à assistance électriques et les sièges pour enfants sont acceptés (sans enfants).
URL:https://www.vcleguidon.be/agenda/18-i-brussels-tour/
LOCATION:PLACE DES palais\, Place des Palais\, 1000 Bruxelles\, Belgium
CATEGORIES:Sortie spéciale
ORGANIZER;CN="Jean-Christophe Pollet":MAILTO:polletjeanchristophe@gmail.com
END:VEVENT
BEGIN:VEVENT
DTSTART;TZID=UTC:20250622T090000
DTEND;TZID=UTC:20250622T120000
DTSTAMP:20260421T161040
CREATED:20250618T080024Z
LAST-MODIFIED:20250618T080024Z
UID:6096-1750582800-1750593600@www.vcleguidon.be
SUMMARY:alternative brussel's tour
DESCRIPTION:Pacours unique : lien routeyou \ngpx
URL:https://www.vcleguidon.be/agenda/alternative-brussels-tour/
END:VEVENT
BEGIN:VEVENT
DTSTART;TZID=UTC:20250615T090000
DTEND;TZID=UTC:20250615T120000
DTSTAMP:20260421T161040
CREATED:20250606T135105Z
LAST-MODIFIED:20250613T201608Z
UID:5930-1749978000-1749988800@www.vcleguidon.be
SUMMARY:19 I Racourt
DESCRIPTION:Groupe Touristes \nGroupe Cyclo \nGroupe Sport \nGPX \nrouteyou-racourt-touriste-29-05-2025-62k-389d \nrouteyou-racourt-sport-29-05-2025-82k-506d \nrouteyou-racourt-cyclo-29-05-2025-71-kms-420dev
URL:https://www.vcleguidon.be/agenda/20-racourt/
LOCATION:Relais Saint -Martin\, Rue de Beauvechain 56\, Beauvechain\, 1320\, Belgique
CATEGORIES:Sortie dominicale
END:VEVENT
BEGIN:VEVENT
DTSTART;TZID=UTC:20250608T070000
DTEND;TZID=UTC:20250608T170000
DTSTAMP:20260421T161040
CREATED:20250421T125412Z
LAST-MODIFIED:20250611T114605Z
UID:5743-1749366000-1749402000@www.vcleguidon.be
SUMMARY:18 I Leau
DESCRIPTION:Alternative cyclo – touristes ROUTEYOU \nGPX Alternative Mer
URL:https://www.vcleguidon.be/agenda/leau/
LOCATION:Leuven\, Belgium
CATEGORIES:Sortie dominicale
END:VEVENT
BEGIN:VEVENT
DTSTART;TZID=UTC:20250601T090000
DTEND;TZID=UTC:20250601T120000
DTSTAMP:20260421T161040
CREATED:20250420T161750Z
LAST-MODIFIED:20250607T182106Z
UID:5741-1748768400-1748779200@www.vcleguidon.be
SUMMARY:17 I Sortie spéciale - Mur de Grammont
DESCRIPTION:Sortie spéciale organisée par Norbert \nParcours cyclo RouteYou \nGPX Cyclo \nParcours sport Routeyou \nGPX Sport \nAlternative pour ceux qui ne font pas la sortie spéciale : le long du canal (parcours sans camionnette) \nAlternative Sport (ou cyclo-sport)  \nGPX Alternative
URL:https://www.vcleguidon.be/agenda/12-sortie-speciale-mur-de-grammont/
LOCATION:Chateau de Beersel\, Lotsestraat 65\, Beersel\, 1650\, Belgium
CATEGORIES:Sortie spéciale
END:VEVENT
BEGIN:VEVENT
DTSTART;TZID=UTC:20250529T090000
DTEND;TZID=UTC:20250529T120000
DTSTAMP:20260421T161040
CREATED:20250421T131549Z
LAST-MODIFIED:20250607T182049Z
UID:5749-1748509200-1748520000@www.vcleguidon.be
SUMMARY:16 I Linter
DESCRIPTION:Parcours unique : 76K
URL:https://www.vcleguidon.be/agenda/jour-ferie-ransart/
LOCATION:Relais Saint -Martin\, Rue de Beauvechain 56\, Beauvechain\, 1320\, Belgique
CATEGORIES:Sortie jour férié
END:VEVENT
BEGIN:VEVENT
DTSTART;TZID=UTC:20250525T090000
DTEND;TZID=UTC:20250525T120000
DTSTAMP:20260421T161040
CREATED:20250425T085547Z
LAST-MODIFIED:20250607T182036Z
UID:5760-1748163600-1748174400@www.vcleguidon.be
SUMMARY:15 I Haacht - Super8
DESCRIPTION:Parcours touriste \nParcours cyclo \nParcours sport
URL:https://www.vcleguidon.be/agenda/haacht-super8/
LOCATION:Relais Saint -Martin\, Rue de Beauvechain 56\, Beauvechain\, 1320\, Belgique
CATEGORIES:Sortie dominicale
END:VEVENT
BEGIN:VEVENT
DTSTART;TZID=UTC:20250518T090000
DTEND;TZID=UTC:20250518T120000
DTSTAMP:20260421T161040
CREATED:20250425T095024Z
LAST-MODIFIED:20250607T182024Z
UID:5763-1747558800-1747569600@www.vcleguidon.be
SUMMARY:14  I Perwez
DESCRIPTION:Parcours touriste \nParcours cyclo \nParcours sport \n 
URL:https://www.vcleguidon.be/agenda/14-perwez/
LOCATION:Relais Saint -Martin\, Rue de Beauvechain 56\, Beauvechain\, 1320\, Belgique
CATEGORIES:Sortie dominicale
END:VEVENT
BEGIN:VEVENT
DTSTART;TZID=UTC:20250511T090000
DTEND;TZID=UTC:20250511T120000
DTSTAMP:20260421T161040
CREATED:20250420T160927Z
LAST-MODIFIED:20250607T182016Z
UID:5737-1746954000-1746964800@www.vcleguidon.be
SUMMARY:13 I Wasmont
DESCRIPTION:Parcours touristes  \nAttention parcours via RAVEL (passage compliqué pour la camionnette)  \nParcours cyclo \nParcours sport \n 
URL:https://www.vcleguidon.be/agenda/11-route-sven-nijs/
LOCATION:Relais Saint -Martin\, Rue de Beauvechain 56\, Beauvechain\, 1320\, Belgique
CATEGORIES:Sortie dominicale
END:VEVENT
BEGIN:VEVENT
DTSTART;TZID=UTC:20250504T090000
DTEND;TZID=UTC:20250504T120000
DTSTAMP:20260421T161040
CREATED:20250420T155152Z
LAST-MODIFIED:20250607T182001Z
UID:5731-1746349200-1746360000@www.vcleguidon.be
SUMMARY:12 I Ransart
DESCRIPTION:Parcours touristes \nParcours cyclo \nParcours sport
URL:https://www.vcleguidon.be/agenda/10-louvrange/
LOCATION:Relais Saint -Martin\, Rue de Beauvechain 56\, Beauvechain\, 1320\, Belgique
CATEGORIES:Sortie dominicale
END:VEVENT
BEGIN:VEVENT
DTSTART;TZID=UTC:20250501T090000
DTEND;TZID=UTC:20250501T120000
DTSTAMP:20260421T161040
CREATED:20250420T155723Z
LAST-MODIFIED:20250607T181947Z
UID:5733-1746090000-1746100800@www.vcleguidon.be
SUMMARY:11 I Eghezée/Citadelle de Namur
DESCRIPTION:Parcours touristes \nParcours cyclo \nParcours sport
URL:https://www.vcleguidon.be/agenda/jour-ferie-eghezee-citadelle-de-namur/
LOCATION:Relais Saint -Martin\, Rue de Beauvechain 56\, Beauvechain\, 1320\, Belgique
CATEGORIES:Sortie jour férié
END:VEVENT
BEGIN:VEVENT
DTSTART;TZID=UTC:20250427T090000
DTEND;TZID=UTC:20250427T120000
DTSTAMP:20260421T161040
CREATED:20250330T140758Z
LAST-MODIFIED:20250607T181927Z
UID:5674-1745744400-1745755200@www.vcleguidon.be
SUMMARY:10 I Zaventem
DESCRIPTION:Parcours touristes \nParcours cyclos \nParcours sport
URL:https://www.vcleguidon.be/agenda/houwaart-omloop-van-het-hageland/
LOCATION:Relais Saint -Martin\, Rue de Beauvechain 56\, Beauvechain\, 1320\, Belgique
CATEGORIES:Sortie dominicale
END:VEVENT
BEGIN:VEVENT
DTSTART;TZID=UTC:20250421T090000
DTEND;TZID=UTC:20250421T120000
DTSTAMP:20260421T161040
CREATED:20250329T182536Z
LAST-MODIFIED:20250607T181904Z
UID:5672-1745226000-1745236800@www.vcleguidon.be
SUMMARY:9 I Le long du canal - parcours commun
DESCRIPTION:parcours \nsortie jour férié – parcours détente le long des canaux
URL:https://www.vcleguidon.be/agenda/le-long-du-canal-parcours-commun/
LOCATION:Relais Saint -Martin\, Rue de Beauvechain 56\, Beauvechain\, 1320\, Belgique
CATEGORIES:Sortie jour férié
END:VEVENT
BEGIN:VEVENT
DTSTART;TZID=UTC:20250420T090000
DTEND;TZID=UTC:20250420T120000
DTSTAMP:20260421T161040
CREATED:20250323T153923Z
LAST-MODIFIED:20250326T182622Z
UID:5652-1745139600-1745150400@www.vcleguidon.be
SUMMARY:8 I Overijse - circuit côtes
DESCRIPTION:Parcours touriste \nParcours cyclo \nParcours sport (900D+)
URL:https://www.vcleguidon.be/agenda/8-overijse-circuit-cotes/
LOCATION:Relais Saint -Martin\, Rue de Beauvechain 56\, Beauvechain\, 1320\, Belgique
CATEGORIES:Sortie dominicale
END:VEVENT
BEGIN:VEVENT
DTSTART;TZID=UTC:20250413T090000
DTEND;TZID=UTC:20250413T120000
DTSTAMP:20260421T161040
CREATED:20250323T152934Z
LAST-MODIFIED:20250411T092553Z
UID:5650-1744534800-1744545600@www.vcleguidon.be
SUMMARY:7 I Houwaart - Omloop Van Het Hageland
DESCRIPTION:Suite à des travaux sur les parcours initialement prévus\, nous inversons les dates du 13 et 27 avril. \nParcours touriste \nParcours cyclo \nParcours sport (avec boucle OVHH)
URL:https://www.vcleguidon.be/agenda/7-zaventem/
LOCATION:Relais Saint -Martin\, Rue de Beauvechain 56\, Beauvechain\, 1320\, Belgique
CATEGORIES:Sortie dominicale
END:VEVENT
BEGIN:VEVENT
DTSTART;TZID=UTC:20250406T090000
DTEND;TZID=UTC:20250406T120000
DTSTAMP:20260421T161040
CREATED:20250323T151939Z
LAST-MODIFIED:20250326T182609Z
UID:5647-1743930000-1743940800@www.vcleguidon.be
SUMMARY:6 I Grand Leez
DESCRIPTION:Parcours touriste \nparcours cyclo \nParcours sport
URL:https://www.vcleguidon.be/agenda/6-grand-leez/
LOCATION:Relais Saint -Martin\, Rue de Beauvechain 56\, Beauvechain\, 1320\, Belgique
CATEGORIES:Sortie dominicale
END:VEVENT
BEGIN:VEVENT
DTSTART;TZID=UTC:20250330T090000
DTEND;TZID=UTC:20250330T120000
DTSTAMP:20260421T161040
CREATED:20250225T103649Z
LAST-MODIFIED:20250323T150400Z
UID:5549-1743325200-1743336000@www.vcleguidon.be
SUMMARY:5 I Walhain - Villers la Ville
DESCRIPTION:Parcours touriste (Walhain) \nParcours cyclo (78K-compatible camionnette) \nParcours sport (86K)
URL:https://www.vcleguidon.be/agenda/5-i-walhain-villers-la-ville/
LOCATION:Relais Saint -Martin\, Rue de Beauvechain 56\, Beauvechain\, 1320\, Belgique
CATEGORIES:Sortie dominicale
END:VEVENT
BEGIN:VEVENT
DTSTART;TZID=UTC:20250323T090000
DTEND;TZID=UTC:20250323T120000
DTSTAMP:20260421T161040
CREATED:20250225T103330Z
LAST-MODIFIED:20250318T102233Z
UID:5547-1742720400-1742731200@www.vcleguidon.be
SUMMARY:4 I Kampenhout/Route Eddy Merckx - 23.03.2025
DESCRIPTION:Parcours touristes \nParcours cyclos \nParcours sport \n!!! Camionnette  avec groupe Cyclos – Touristes roulent le long du canal !!!
URL:https://www.vcleguidon.be/agenda/4-kampenhout-route-eddy-merckx-23-03-2025/
LOCATION:Relais Saint -Martin\, Rue de Beauvechain 56\, Beauvechain\, 1320\, Belgique
CATEGORIES:Sortie dominicale
END:VEVENT
BEGIN:VEVENT
DTSTART;TZID=UTC:20250316T090000
DTEND;TZID=UTC:20250316T123000
DTSTAMP:20260421T161040
CREATED:20250203T144951Z
LAST-MODIFIED:20250225T172713Z
UID:5494-1742115600-1742128200@www.vcleguidon.be
SUMMARY:3 I Zoutleeuw - 16.03.2025
DESCRIPTION:Parcours Touriste \nParcours Cyclo\nParcours Sport
URL:https://www.vcleguidon.be/agenda/3-i-zoutleeuw/
LOCATION:Relais Saint -Martin\, Rue de Beauvechain 56\, Beauvechain\, 1320\, Belgique
CATEGORIES:Sortie dominicale
END:VEVENT
BEGIN:VEVENT
DTSTART;TZID=UTC:20250309T090000
DTEND;TZID=UTC:20250309T120000
DTSTAMP:20260421T161040
CREATED:20250225T102743Z
LAST-MODIFIED:20250306T132559Z
UID:5543-1741510800-1741521600@www.vcleguidon.be
SUMMARY:2 I Thorembais - 09.03.2025
DESCRIPTION:  \n  \n!!!! ATTENTION !!! Départ 9H \nParcours touristes \nParcours cyclos \nParcours sport 
URL:https://www.vcleguidon.be/agenda/2-thorembais-09-03-2025/
LOCATION:Relais Saint -Martin\, Rue de Beauvechain 56\, Beauvechain\, 1320\, Belgique
CATEGORIES:Sortie dominicale
END:VEVENT
BEGIN:VEVENT
DTSTART;TZID=UTC:20250302T093000
DTEND;TZID=UTC:20250302T123000
DTSTAMP:20260421T161040
CREATED:20250224T080423Z
LAST-MODIFIED:20250225T172725Z
UID:5539-1740907800-1740918600@www.vcleguidon.be
SUMMARY:1 I Vertrijk - 02.03.2025
DESCRIPTION:Lancement de la saison ! \nDépart du Relais. Les 15 premiers KM se feront ensemble (allure modérée). Séparation des groupes à hauteur des étangs de Zoetwater. \nParcours touristes et cyclos. \nParcours sport \nN’oubliez pas le verre de l’amitié après la sortie et distribution des bidons offerts par notre nouveau sponsor BRUTOIT.
URL:https://www.vcleguidon.be/agenda/1-vertrijk-02-03-2025/
LOCATION:Relais Saint -Martin\, Rue de Beauvechain 56\, Beauvechain\, 1320\, Belgique
CATEGORIES:Sortie dominicale
END:VEVENT
BEGIN:VEVENT
DTSTART;TZID=UTC:20250223T093000
DTEND;TZID=UTC:20250223T120000
DTSTAMP:20260421T161040
CREATED:20250210T090740Z
LAST-MODIFIED:20250220T191738Z
UID:5516-1740303000-1740312000@www.vcleguidon.be
SUMMARY:Reco parcours Vertrijk SPORT (départ LIDL H-M) et CYCLO
DESCRIPTION:Parcours sport : 65K \nAttention départ 9h30 LIDL pour ce parcours !!!!! \nParcours cyclos (lieu de RDV à convenir entre vous) \n 
URL:https://www.vcleguidon.be/agenda/reco-parcours-vertrijk-depart-lidl-h-m-route/
LOCATION:Intermarché Hamme-Mille\, Rue des Épinoches 5\, 1320 Beauvechain\, Belgium
CATEGORIES:Sortie dominicale
END:VEVENT
BEGIN:VEVENT
DTSTART;TZID=UTC:20250216T093000
DTEND;TZID=UTC:20250216T120000
DTSTAMP:20260421T161040
CREATED:20250215T170626Z
LAST-MODIFIED:20250215T170626Z
UID:5532-1739698200-1739707200@www.vcleguidon.be
SUMMARY:gravel - tervuren
DESCRIPTION:Parcours \nParcours roulant
URL:https://www.vcleguidon.be/agenda/gravel-tervuren/
LOCATION:Intermarché Hamme-Mille\, Rue des Épinoches 5\, 1320 Beauvechain\, Belgium
CATEGORIES:Sortie Gravel
END:VEVENT
BEGIN:VEVENT
DTSTART;TZID=UTC:20250209T093000
DTEND;TZID=UTC:20250209T120000
DTSTAMP:20260421T161040
CREATED:20250206T105526Z
LAST-MODIFIED:20250206T105526Z
UID:5497-1739093400-1739102400@www.vcleguidon.be
SUMMARY:Reco parcours
DESCRIPTION:Route reconnaissance du premier parcours de la saison \nParcours : 66K – 395D+
URL:https://www.vcleguidon.be/agenda/reco-parcours/
LOCATION:Relais Saint -Martin\, Rue de Beauvechain 56\, Beauvechain\, 1320\, Belgique
CATEGORIES:Sortie hivernale
END:VEVENT
BEGIN:VEVENT
DTSTART;TZID=UTC:20250202T093000
DTEND;TZID=UTC:20250202T120000
DTSTAMP:20260421T161040
CREATED:20250130T201143Z
LAST-MODIFIED:20250203T140125Z
UID:5484-1738488600-1738497600@www.vcleguidon.be
SUMMARY:Tour d'hiver - Hoegaarden - Landen -vélo de route
DESCRIPTION:Parcours \nDépart du parking intermarché Hamme Mille comme le groupe Gravel
URL:https://www.vcleguidon.be/agenda/tour-dhiver-hoegaarden-landen-velo-de-route/
LOCATION:Intermarché Hamme-Mille\, Rue des Épinoches 5\, 1320 Beauvechain\, Belgium
CATEGORIES:Sortie hivernale
END:VEVENT
BEGIN:VEVENT
DTSTART;TZID=UTC:20250202T093000
DTEND;TZID=UTC:20250202T120000
DTSTAMP:20260421T161040
CREATED:20250130T200455Z
LAST-MODIFIED:20250203T140132Z
UID:5482-1738488600-1738497600@www.vcleguidon.be
SUMMARY:Gravel Meerdael - Boutersem
DESCRIPTION:Parcours \nParcours varié forêt-champs\, quelques passages boueux à prévoir.
URL:https://www.vcleguidon.be/agenda/gravel-meerdael-boutersem/
LOCATION:Intermarché Hamme-Mille\, Rue des Épinoches 5\, 1320 Beauvechain\, Belgium
CATEGORIES:Sortie Gravel
END:VEVENT
BEGIN:VEVENT
DTSTART;TZID=UTC:20250126T093000
DTEND;TZID=UTC:20250126T120000
DTSTAMP:20260421T161040
CREATED:20250123T190734Z
LAST-MODIFIED:20250203T140139Z
UID:5479-1737883800-1737892800@www.vcleguidon.be
SUMMARY:Tour d'hiver - Thorembais - 65km
DESCRIPTION:Parcours \ntour d’hiver\, 65 km et 400 D+\, vélo de route (vélo de gravel possible) pour sortir de l’hibernation.
URL:https://www.vcleguidon.be/agenda/tour-dhiver-thorembais-65km/
LOCATION:Relais Saint -Martin\, Rue de Beauvechain 56\, Beauvechain\, 1320\, Belgique
CATEGORIES:Sortie hivernale
END:VEVENT
BEGIN:VEVENT
DTSTART;TZID=UTC:20250112T100000
DTEND;TZID=UTC:20250112T120000
DTSTAMP:20260421T161040
CREATED:20250106T163925Z
LAST-MODIFIED:20250106T163925Z
UID:5452-1736676000-1736683200@www.vcleguidon.be
SUMMARY:Gravel Hoegaarden
DESCRIPTION:Parcours
URL:https://www.vcleguidon.be/agenda/gravel-hoegaarden/
LOCATION:Intermarché Hamme-Mille\, Rue des Épinoches 5\, 1320 Beauvechain\, Belgium
CATEGORIES:Sortie Gravel
END:VEVENT
BEGIN:VEVENT
DTSTART;TZID=UTC:20250105T100000
DTEND;TZID=UTC:20250105T120000
DTSTAMP:20260421T161040
CREATED:20250104T101006Z
LAST-MODIFIED:20250203T140145Z
UID:5450-1736071200-1736078400@www.vcleguidon.be
SUMMARY:Gravel - Chaumont
DESCRIPTION:Parcours
URL:https://www.vcleguidon.be/agenda/gravel-chaumont/
LOCATION:Intermarché Hamme-Mille\, Rue des Épinoches 5\, 1320 Beauvechain\, Belgium
CATEGORIES:Sortie Gravel
END:VEVENT
END:VCALENDAR