BEGIN:VCALENDAR
VERSION:2.0
PRODID:-//VC Le guidon - ECPv6.15.12.2//NONSGML v1.0//EN
CALSCALE:GREGORIAN
METHOD:PUBLISH
X-WR-CALNAME:VC Le guidon
X-ORIGINAL-URL:https://www.vcleguidon.be
X-WR-CALDESC:Events for VC Le guidon
REFRESH-INTERVAL;VALUE=DURATION:PT1H
X-Robots-Tag:noindex
X-PUBLISHED-TTL:PT1H
BEGIN:VTIMEZONE
TZID:UTC
BEGIN:STANDARD
TZOFFSETFROM:+0000
TZOFFSETTO:+0000
TZNAME:UTC
DTSTART:20220101T000000
END:STANDARD
END:VTIMEZONE
BEGIN:VEVENT
DTSTART;TZID=UTC:20230917T090000
DTEND;TZID=UTC:20230917T123000
DTSTAMP:20260421T224137
CREATED:20230829T091935Z
LAST-MODIFIED:20230904T044702Z
UID:3175-1694941200-1694953800@www.vcleguidon.be
SUMMARY:33 I Gerompont
DESCRIPTION:La commune  de Beauvechain a sollicité notre aide pour la sortie vélo qu’elle organise ce jour dans le cadre de la semaine de la mobilité.  Y prendront part les membres du collèges ainsi que les habitants qui le souhaitent.  Le cortège fera une halte dans les différentes salles communales pour rafraîchissement.\n\nMarc a retracé le parcours de manière à ce que notre club puisse accompagner cette belle initiative sur les premiers km :  départ pour tous les membres de la maison communale de Beauvechain (en face du café La Renaissance) jusqu’à la première halte du cortège (Relais St Martin).  Ensuite\, libre à chacun de suivre le parcours dominical ou d’accompagner le cortège (22\,5km).  Certaines portions empruntées sur ce parcours ne conviennent pas aux vélos de route.\nParcours Touriste\nParcours Cyclo\nParcours Sport
URL:https://www.vcleguidon.be/agenda/33-i-gerompont/
LOCATION:Relais Saint -Martin\, Rue de Beauvechain 56\, Beauvechain\, 1320\, Belgique
CATEGORIES:Sortie dominicale
ORGANIZER;CN="Marc Timmerman":MAILTO:marc.timmerman@yahoo.fr
END:VEVENT
BEGIN:VEVENT
DTSTART;TZID=UTC:20230910T090000
DTEND;TZID=UTC:20230910T123000
DTSTAMP:20260421T224137
CREATED:20230829T091631Z
LAST-MODIFIED:20230829T091727Z
UID:3173-1694336400-1694349000@www.vcleguidon.be
SUMMARY:32 I Vilvorde
DESCRIPTION:Parcours Touriste\nParcours Cyclo\nParcours Sport
URL:https://www.vcleguidon.be/agenda/32-i-vilvorde/
LOCATION:Relais Saint -Martin\, Rue de Beauvechain 56\, Beauvechain\, 1320\, Belgique
CATEGORIES:Sortie dominicale
ORGANIZER;CN="Marc Timmerman":MAILTO:marc.timmerman@yahoo.fr
END:VEVENT
BEGIN:VEVENT
DTSTART;TZID=UTC:20230903T090000
DTEND;TZID=UTC:20230903T123000
DTSTAMP:20260421T224137
CREATED:20230829T091245Z
LAST-MODIFIED:20230829T091245Z
UID:3170-1693731600-1693744200@www.vcleguidon.be
SUMMARY:31 I Sortie mixte
DESCRIPTION:Parcours mixte 
URL:https://www.vcleguidon.be/agenda/31-i-sortie-mixte/
LOCATION:Relais Saint -Martin\, Rue de Beauvechain 56\, Beauvechain\, 1320\, Belgique
CATEGORIES:Sortie dominicale
ORGANIZER;CN="Marc Timmerman":MAILTO:marc.timmerman@yahoo.fr
END:VEVENT
BEGIN:VEVENT
DTSTART;TZID=UTC:20230827T090000
DTEND;TZID=UTC:20230827T123000
DTSTAMP:20260421T224137
CREATED:20230621T073459Z
LAST-MODIFIED:20230621T073459Z
UID:3022-1693126800-1693139400@www.vcleguidon.be
SUMMARY:30 I Wasseiges
DESCRIPTION:RELAIS ST MARTIN / NODEBAIS / LA CHISE / GLIMES /PERWEZ / LIERNU / ST GERMAIN / LONCHAMPS / LEUZE / HANRET / BRANCHON / WASSEIGES / MERDORP / WANSIN / ORP / MARILLES / JODOIGNE / MELIN / LA BRUYERE / RELAIS ST MARTIN \nParcours Touriste\nParcours Cyclo\nParcours Sport
URL:https://www.vcleguidon.be/agenda/30-i-wasseiges/
LOCATION:Relais Saint -Martin\, Rue de Beauvechain 56\, Beauvechain\, 1320\, Belgique
CATEGORIES:Sortie dominicale
ORGANIZER;CN="Marc Timmerman":MAILTO:marc.timmerman@yahoo.fr
END:VEVENT
BEGIN:VEVENT
DTSTART;TZID=UTC:20230820T090000
DTEND;TZID=UTC:20230820T123000
DTSTAMP:20260421T224137
CREATED:20230621T073307Z
LAST-MODIFIED:20230621T073307Z
UID:3020-1692522000-1692534600@www.vcleguidon.be
SUMMARY:29 I Walhain
DESCRIPTION:RELAIS ST MARTIN / PELLENBERG / LUBBEEK / HOUWAART / ZICHEM / MOLENBEEK / MENSEL / KERKOM / KUMTICH / MELDERT / RELAIS ST MARTIN \nParcours Touriste\nParcours Cyclo\nParcours Sport
URL:https://www.vcleguidon.be/agenda/29-walhain/
LOCATION:Relais Saint -Martin\, Rue de Beauvechain 56\, Beauvechain\, 1320\, Belgique
CATEGORIES:Sortie dominicale
ORGANIZER;CN="Marc Timmerman":MAILTO:marc.timmerman@yahoo.fr
END:VEVENT
BEGIN:VEVENT
DTSTART;TZID=UTC:20230815T090000
DTEND;TZID=UTC:20230815T123000
DTSTAMP:20260421T224137
CREATED:20230621T073115Z
LAST-MODIFIED:20230621T073124Z
UID:3018-1692090000-1692102600@www.vcleguidon.be
SUMMARY:28 I Saint-Truiden
DESCRIPTION:RELAIS ST MARTIN / BEAUVECHAIN / HOEGAARDEN / OUTGAARDEN / GOSSONCOURT / MEER / EEZEMAAL / NEERWINDEN / LANDEN / ATTENHOVEN / VELM / KERKOM / MONTENAKEN / WEZEREN / HOUTAIN L’EVEQUE / RACOUR / NODUWEZ / PIETRAIN / JODOIGNE / LA CHISE / NODEBAIS / RELAIS ST MARTIN \nParcours Touriste\nParcours Cyclo\nParcours Sport
URL:https://www.vcleguidon.be/agenda/28-saint-truiden/
LOCATION:Relais Saint -Martin\, Rue de Beauvechain 56\, Beauvechain\, 1320\, Belgique
CATEGORIES:Sortie jour férié
ORGANIZER;CN="Marc Timmerman":MAILTO:marc.timmerman@yahoo.fr
END:VEVENT
BEGIN:VEVENT
DTSTART;TZID=UTC:20230813T090000
DTEND;TZID=UTC:20230813T123000
DTSTAMP:20260421T224137
CREATED:20230621T072915Z
LAST-MODIFIED:20230621T072915Z
UID:3016-1691917200-1691929800@www.vcleguidon.be
SUMMARY:27 I Ottignies
DESCRIPTION:RELAIS ST MARTIN / TOUR DE M’LIN/ GREZ / BERCUIT / DION / VIEUSART / CORROY / CORBAIS / MSG / CSE / OTTIGNIES/ WAVRE / OTTENBURG / WEERT / NETHEN / NODEBAIS / RELAIS ST MARTIN \nParcours Touriste\nParcours Cyclo\nParcours Sport
URL:https://www.vcleguidon.be/agenda/27-ottignies/
LOCATION:Relais Saint -Martin\, Rue de Beauvechain 56\, Beauvechain\, 1320\, Belgique
CATEGORIES:Sortie dominicale
ORGANIZER;CN="Marc Timmerman":MAILTO:marc.timmerman@yahoo.fr
END:VEVENT
BEGIN:VEVENT
DTSTART;TZID=UTC:20230806T090000
DTEND;TZID=UTC:20230806T123000
DTSTAMP:20260421T224137
CREATED:20230621T072653Z
LAST-MODIFIED:20230621T072653Z
UID:3014-1691312400-1691325000@www.vcleguidon.be
SUMMARY:26 I Tielt
DESCRIPTION:RELAIS ST MARTIN / NETHEN / ZOETWATER / BERTEM / VELTEM / HERENT / WIJGMAAL / HOLSBEEK / KORTRIJK-DUTSEL / NIEUWRODE / TIELT / HOUWAART / HORST / PELLENBERG / LOVENJOEL / OPVELP / RELAIS ST MARTIN \nParcours Touriste\nParcours Cyclo\nParcours Sport
URL:https://www.vcleguidon.be/agenda/26-tielt/
LOCATION:Relais Saint -Martin\, Rue de Beauvechain 56\, Beauvechain\, 1320\, Belgique
CATEGORIES:Sortie dominicale
ORGANIZER;CN="Marc Timmerman":MAILTO:marc.timmerman@yahoo.fr
END:VEVENT
BEGIN:VEVENT
DTSTART;TZID=UTC:20230730T090000
DTEND;TZID=UTC:20230730T123000
DTSTAMP:20260421T224137
CREATED:20230621T072422Z
LAST-MODIFIED:20230621T072422Z
UID:3011-1690707600-1690720200@www.vcleguidon.be
SUMMARY:25 I Forville
DESCRIPTION:RSM  / NODEBAIS / La Chise / JODOIGNE / HUPPAYE / ENINES / JAUCHE / JANDRAIN / MERDORP / WASSEIGES / MEFFE / SERON / PELAKI / CORTIL-WODON / LEUZE / LONGCHAMPS / SAINT-GERMAIN / LIERNU / PERWEZ / MALEVES / CHAUMONT / GREZ / RSM \nParcours Touriste\nParcours Cyclo\nParcours Sport
URL:https://www.vcleguidon.be/agenda/25-forville/
LOCATION:Relais Saint -Martin\, Rue de Beauvechain 56\, Beauvechain\, 1320\, Belgique
CATEGORIES:Sortie dominicale
ORGANIZER;CN="Marc Timmerman":MAILTO:marc.timmerman@yahoo.fr
END:VEVENT
BEGIN:VEVENT
DTSTART;TZID=UTC:20230723T090000
DTEND;TZID=UTC:20230723T123000
DTSTAMP:20260421T224137
CREATED:20230621T072210Z
LAST-MODIFIED:20230621T072210Z
UID:3009-1690102800-1690115400@www.vcleguidon.be
SUMMARY:24 I Grand-Leez
DESCRIPTION:RELAIS ST MARTIN / MELDERT / TIRLEMONT / JODOIGNE / GRAND-LEEZ / CHAUMONT / GREZ / RELAIS ST MARTIN \nParcours Touriste\nParcours Cyclo\nParcours Sport
URL:https://www.vcleguidon.be/agenda/24-i-grand-leez/
LOCATION:Relais Saint -Martin\, Rue de Beauvechain 56\, Beauvechain\, 1320\, Belgique
CATEGORIES:Sortie dominicale
ORGANIZER;CN="Marc Timmerman":MAILTO:marc.timmerman@yahoo.fr
END:VEVENT
BEGIN:VEVENT
DTSTART;TZID=UTC:20230721T090000
DTEND;TZID=UTC:20230721T123000
DTSTAMP:20260421T224137
CREATED:20230621T060822Z
LAST-MODIFIED:20230621T060822Z
UID:3007-1689930000-1689942600@www.vcleguidon.be
SUMMARY:23 I Maransart
DESCRIPTION:RELAIS ST MARTIN / NETHEN / PECROT / OTTENBOURG / RIXENSART / MARANSART / CEROUX / CORROY / VIEUSART / DION / GREZ / BOSSUT / RELAIS ST MARTIN \nParcours Touriste\nParcours Cyclo\nParcours Sport
URL:https://www.vcleguidon.be/agenda/23-maransart/
LOCATION:Relais Saint -Martin\, Rue de Beauvechain 56\, Beauvechain\, 1320\, Belgique
CATEGORIES:Sortie jour férié
ORGANIZER;CN="Marc Timmerman":MAILTO:marc.timmerman@yahoo.fr
END:VEVENT
BEGIN:VEVENT
DTSTART;TZID=UTC:20230716T090000
DTEND;TZID=UTC:20230716T123000
DTSTAMP:20260421T224137
CREATED:20230621T060601Z
LAST-MODIFIED:20230621T060848Z
UID:3005-1689498000-1689510600@www.vcleguidon.be
SUMMARY:22 I Keerbergen
DESCRIPTION:RELAIS ST MARTIN / PELLENBERG / ROTSELAAR / KEERBERGEN / KAMPENHOUT / BERTEM / NEERIJSE / SJW/ NETHEN / RELAIS ST MARTIN \nParcours Touriste\nParcours Cyclo\nParcours Sport
URL:https://www.vcleguidon.be/agenda/22-keerbergen/
LOCATION:Relais Saint -Martin\, Rue de Beauvechain 56\, Beauvechain\, 1320\, Belgique
CATEGORIES:Sortie dominicale
ORGANIZER;CN="Marc Timmerman":MAILTO:marc.timmerman@yahoo.fr
END:VEVENT
BEGIN:VEVENT
DTSTART;TZID=UTC:20230709T090000
DTEND;TZID=UTC:20230709T123000
DTSTAMP:20260421T224137
CREATED:20230621T060201Z
LAST-MODIFIED:20230621T060843Z
UID:3001-1688893200-1688905800@www.vcleguidon.be
SUMMARY:21 I Jauche
DESCRIPTION:RELAIS ST MARTIN / RUE DU BROUX / TIENEN / ELIKSEM / NEERWINDEN / LANDEN / RACOUR / PELLAINES / ORP / JAUCHE / AUTRE-EGLISE / HEDENGE / BOMAL / GLIMES / INCOURT / LONGUEVILLE / HEZE / GREZ / BOSSUT / NETHEN / RELAIS ST MARTIN \nParcours Touriste\nParcours Cyclo\nParcours Sport
URL:https://www.vcleguidon.be/agenda/21-jauche/
LOCATION:Relais Saint -Martin\, Rue de Beauvechain 56\, Beauvechain\, 1320\, Belgique
CATEGORIES:Sortie dominicale
ORGANIZER;CN="Marc Timmerman":MAILTO:marc.timmerman@yahoo.fr
END:VEVENT
BEGIN:VEVENT
DTSTART;TZID=UTC:20230702T090000
DTEND;TZID=UTC:20230702T123000
DTSTAMP:20260421T224137
CREATED:20230621T060005Z
LAST-MODIFIED:20230621T060839Z
UID:2999-1688288400-1688301000@www.vcleguidon.be
SUMMARY:20 I Céroux
DESCRIPTION:RELAIS ST MARTIN / BLANDEN / EAUX-DOUCES / SINT-JORIS-WEERT / TERLANEN / LA HULPE / LASNE / CEROUX / LLN / VIEUSART / DION / RSM \nParcours Touriste\nParcours Cyclo\nParcours Sport
URL:https://www.vcleguidon.be/agenda/20-ceroux/
LOCATION:Relais Saint -Martin\, Rue de Beauvechain 56\, Beauvechain\, 1320\, Belgique
CATEGORIES:Sortie dominicale
ORGANIZER;CN="Marc Timmerman":MAILTO:marc.timmerman@yahoo.fr
END:VEVENT
BEGIN:VEVENT
DTSTART;TZID=UTC:20230625T090000
DTEND;TZID=UTC:20230625T123000
DTSTAMP:20260421T224137
CREATED:20230422T184345Z
LAST-MODIFIED:20230422T184345Z
UID:2505-1687683600-1687696200@www.vcleguidon.be
SUMMARY:19 I Kwerps
DESCRIPTION:RELAIS ST MARTIN / HAMME-MILLE / NETHEN / ST JORIS WEERT / HULDENBERG / DUISBURG / LEEFDAAL / EVERBERG / ERPS-KWERPS / VELTEM / HERENT / WILSELE / BOVENVELD / LINDEN / PELLENBERG /  BOUTERSEM / OPVELP / RELAIS ST MARTIN \nParcours Touriste\nParcours Cyclo\nParcours Sport
URL:https://www.vcleguidon.be/agenda/19-i-kwerps/
LOCATION:Relais Saint -Martin\, Rue de Beauvechain 56\, Beauvechain\, 1320\, Belgique
CATEGORIES:Sortie dominicale
ORGANIZER;CN="Marc Timmerman":MAILTO:marc.timmerman@yahoo.fr
END:VEVENT
BEGIN:VEVENT
DTSTART;TZID=UTC:20230618T090000
DTEND;TZID=UTC:20230618T150000
DTSTAMP:20260421T224137
CREATED:20230420T053417Z
LAST-MODIFIED:20230423T161015Z
UID:2464-1687078800-1687100400@www.vcleguidon.be
SUMMARY:18 I Sortie spéciale
DESCRIPTION:Via de jolies routes tranquilles\, sans difficulté\, je vous invite à la plage de Breskens (Pays-Bas). \nEn fonction de vos envies\, vous y prendrez un moment de détente et un bon repas dans l’un des nombreux restaurants\, ou vous prendrez directement le chemin du retour. Une douche peut être prise en bord de plage. \nLa camionnette peut retrouver le groupe à Breskens\, mais ne le suivra pas. \nDépart 10h00 de Temse\, arrivée à Breskens vers 13h00 (plus tôt pour les sports et un peu plus tard pour les autres) \nDépart au plus tard à 17h00 de Breskens\, arrivée à Temse vers 20h00  (plus tôt pour les sports et un peu plus tard pour les autres) \nExcepté l’horaire de départ de Temse (10h00) ou de Hamme-Mille église (09h00)\, le reste de l’horaire peut être adapté à la demande des participants. \nCompter 45 minutes entre Hamme-Mille et Temse. \nUn départ groupé (co-voiturage) peut se faire à partir de Hamme-Mille à 09h00. \nMarc \nDépart parking  ‘t SAS à Bornem à 10h00.  Pour y arriver\, à gauche direction Weert\, juste avant le pont de Temse.  Après ce carrefour\, le parking est 50 m plus loin\, 2ème à gauche \n  \nParcours identique pour tous les groupes
URL:https://www.vcleguidon.be/agenda/sortie-speciale-juin/
LOCATION:Bornem\, Sas 1\, Bornem\, 2880\, Belgique
CATEGORIES:Sortie spéciale
ORGANIZER;CN="Marc Timmerman":MAILTO:marc.timmerman@yahoo.fr
END:VEVENT
BEGIN:VEVENT
DTSTART;TZID=UTC:20230618T090000
DTEND;TZID=UTC:20230618T123000
DTSTAMP:20260421T224137
CREATED:20230422T183832Z
LAST-MODIFIED:20230422T183832Z
UID:2501-1687078800-1687091400@www.vcleguidon.be
SUMMARY:18 I Alternative à la sortie spéciale
DESCRIPTION:Parcours Mixte
URL:https://www.vcleguidon.be/agenda/18-i-alternative-a-la-sortie-speciale/
LOCATION:Relais Saint -Martin\, Rue de Beauvechain 56\, Beauvechain\, 1320\, Belgique
CATEGORIES:Sortie dominicale
ORGANIZER;CN="Marc Timmerman":MAILTO:marc.timmerman@yahoo.fr
END:VEVENT
BEGIN:VEVENT
DTSTART;TZID=UTC:20230611T090000
DTEND;TZID=UTC:20230611T123000
DTSTAMP:20260421T224137
CREATED:20230422T183516Z
LAST-MODIFIED:20230422T183516Z
UID:2498-1686474000-1686486600@www.vcleguidon.be
SUMMARY:17 I Vedrin
DESCRIPTION:RELAIS ST MARTIN / NODEBAIS / LA CHISE / JODOIGNE / HUPPAYE / AUTRE-EGLISE / FOLX-LES-CAVES / RAMILLIES / EGHEZEE / LEUZE / WARET LA CHAUSSEE / COGNELEE / WARISOULX / LIERNU / PERWEZ / INCOURT / ROUX-MIROIR / LA BRUYERE / RELAIS ST MARTIN. \nParcours Touriste\nParcours Cyclo\nParcours Sport
URL:https://www.vcleguidon.be/agenda/17-i-vedrin/
LOCATION:Relais Saint -Martin\, Rue de Beauvechain 56\, Beauvechain\, 1320\, Belgique
CATEGORIES:Sortie dominicale
ORGANIZER;CN="Marc Timmerman":MAILTO:marc.timmerman@yahoo.fr
END:VEVENT
BEGIN:VEVENT
DTSTART;TZID=UTC:20230604T090000
DTEND;TZID=UTC:20230604T123000
DTSTAMP:20260421T224137
CREATED:20230422T183219Z
LAST-MODIFIED:20230422T183243Z
UID:2495-1685869200-1685881800@www.vcleguidon.be
SUMMARY:15 I Noville
DESCRIPTION:RELAIS ST MARTIN / BOSSUT / GREZ / CHAUMONT / LIBERSART / NOVILLE / JODOIGNE / HOEGAARDEN / RELAIS ST MARTIN \nParcours Touriste\nParcours Cyclo\nParcours Sport
URL:https://www.vcleguidon.be/agenda/15-i/
LOCATION:Relais Saint -Martin\, Rue de Beauvechain 56\, Beauvechain\, 1320\, Belgique
CATEGORIES:Sortie dominicale
ORGANIZER;CN="Marc Timmerman":MAILTO:marc.timmerman@yahoo.fr
END:VEVENT
BEGIN:VEVENT
DTSTART;TZID=UTC:20230604T080000
DTEND;TZID=UTC:20230611T170000
DTSTAMP:20260421T224137
CREATED:20230420T052815Z
LAST-MODIFIED:20230606T061119Z
UID:2460-1685865600-1686502800@www.vcleguidon.be
SUMMARY:16 I Voyage dans l'Hérault
DESCRIPTION:Transport : \nUn covoiturage sera proposé aux membres participants \nParcours : \nLes amis cyclos de Jean-Claude accompagneront les sorties. En fonction des participants\, plusieurs groupes de différents niveaux prendront le départ. Les parcours proposés seront variés (plaine\, vallons\, …). \nHébergement : \nGÎTE LA COQUILLADE\nhttps://www.gitelacoquillade.com/\nTous les gîtes sont entièrement équipés (cuisine salon tv wifi etc…)\, la salle de petit déjeuner sera mise à disposition pour les repas et la détente. La piscine sera opérationnelle.\n+/- 150€/semaine\nLinge de lit et de toilette en option : 8€ par personne pour le séjour\nPetit déjeuner en option : 7\,5 € par personne par jour \nSoit 150€ (location) + 8€ (linge de lit et toilette) + 52\,5€ Petit déjeuner = 210\,5€/semaine/personne \nVélos : \nLe complexe dispose d’une grange pour les vélos. \nRestauration : \nNombreux restaurants aux alentours
URL:https://www.vcleguidon.be/agenda/voyage-dans-lherault/
CATEGORIES:Activité
ATTACH;FMTTYPE=image/jpeg:https://www.vcleguidon.be/wp-content/uploads/2023/06/vcleguidon_agenda_voyage_herault_23.jpg
ORGANIZER;CN="Jean-Christophe Pollet":MAILTO:polletjeanchristophe@gmail.com
END:VEVENT
BEGIN:VEVENT
DTSTART;TZID=UTC:20230528T090000
DTEND;TZID=UTC:20230528T123000
DTSTAMP:20260421T224137
CREATED:20230422T183027Z
LAST-MODIFIED:20230422T184704Z
UID:2493-1685264400-1685277000@www.vcleguidon.be
SUMMARY:14 I Orp
DESCRIPTION:RELAIS ST MARTIN / BOSSUT / PECROT / GREZ / LONGUEVILLE / INCOURT / DONGELBERG / JAUCHELETTE / HUPPAYE / ENINES / MARILLES / ORP / NODUWEZ / PIETRAIN / ZETRUD LUMAY / HOEGAARDEN / MELDERT / OPVELP / RELAIS ST MARTIN \nParcours Touriste\nParcours Cyclo\nParcours Sport
URL:https://www.vcleguidon.be/agenda/14-i-orp/
LOCATION:Relais Saint -Martin\, Rue de Beauvechain 56\, Beauvechain\, 1320\, Belgique
CATEGORIES:Sortie dominicale
ORGANIZER;CN="Marc Timmerman":MAILTO:marc.timmerman@yahoo.fr
END:VEVENT
BEGIN:VEVENT
DTSTART;TZID=UTC:20230521T090000
DTEND;TZID=UTC:20230521T150000
DTSTAMP:20260421T224137
CREATED:20230422T182539Z
LAST-MODIFIED:20230422T190302Z
UID:2488-1684659600-1684681200@www.vcleguidon.be
SUMMARY:13 I Sortie spéciale
DESCRIPTION:AMSTEL \nLa mythique côte du Cauberg fait partie des 2 circuits de cette journée\, le circuit sport a en prime le devenu célèbre Keutenberg où Pogacar a laissé sur place ses derniers adversaires dans le final 2023. \nATTENTION\, départ de Landen\, Maartstraat à 9 heures \n \nParcours Cyclo\nParcours Sport
URL:https://www.vcleguidon.be/agenda/13-i-sortie-speciale-mai/
LOCATION:Landen\, Maartstraat\, Landen\, 3400\, Belgique
CATEGORIES:Sortie spéciale
ORGANIZER;CN="Marc Timmerman":MAILTO:marc.timmerman@yahoo.fr
END:VEVENT
BEGIN:VEVENT
DTSTART;TZID=UTC:20230521T090000
DTEND;TZID=UTC:20230521T123000
DTSTAMP:20260421T224137
CREATED:20230422T182806Z
LAST-MODIFIED:20230422T182806Z
UID:2491-1684659600-1684672200@www.vcleguidon.be
SUMMARY:13 I Alternative à la sortie spéciale
DESCRIPTION:Parcours Touriste\nParcours Mixte
URL:https://www.vcleguidon.be/agenda/13-i-alternative-a-la-sortie-speciale/
LOCATION:Relais Saint -Martin\, Rue de Beauvechain 56\, Beauvechain\, 1320\, Belgique
CATEGORIES:Sortie dominicale
ORGANIZER;CN="Marc Timmerman":MAILTO:marc.timmerman@yahoo.fr
END:VEVENT
BEGIN:VEVENT
DTSTART;TZID=UTC:20230518T090000
DTEND;TZID=UTC:20230518T123000
DTSTAMP:20260421T224137
CREATED:20230422T181916Z
LAST-MODIFIED:20230422T181916Z
UID:2486-1684400400-1684413000@www.vcleguidon.be
SUMMARY:12 I Jandrenouille
DESCRIPTION:RELAIS ST MARTIN / LA BRUYERE / MELIN / JODOIGNE / HUPPAYE / AUTRE/EGLISE / FOLX-LES-CAVES / JANDRENOUILLE / ORP / PELLAINES / OVERWINDEN / MEER / WULMERSOM / BOST / TIENEN / OORBEEK / BEAUVECHAIN / LES BURETTES / RELAIS ST MARTIN. \nParcours Touriste\nParcours Cyclo\nParcours Sport
URL:https://www.vcleguidon.be/agenda/12-i-jandrenouille/
LOCATION:Relais Saint -Martin\, Rue de Beauvechain 56\, Beauvechain\, 1320\, Belgique
CATEGORIES:Sortie jour férié
ORGANIZER;CN="Marc Timmerman":MAILTO:marc.timmerman@yahoo.fr
END:VEVENT
BEGIN:VEVENT
DTSTART;TZID=UTC:20230514T090000
DTEND;TZID=UTC:20230514T123000
DTSTAMP:20260421T224137
CREATED:20230422T181609Z
LAST-MODIFIED:20230505T132427Z
UID:2484-1684054800-1684067400@www.vcleguidon.be
SUMMARY:11 I Tour de Leuven
DESCRIPTION:RELAIS ST MARTIN / OPVELP / LOVENJOEL / KORBEEK-LO / KORTRIJK-DUTSEL / HOLSBEEK / HERENT / MEERBEEK / BERTEM / KORBEEK-DIJLE/ BLANDEN / RSM \nParcours Touriste\nParcours Cyclo\nParcours Sport
URL:https://www.vcleguidon.be/agenda/11-i-tour-de-leuven/
LOCATION:Relais Saint -Martin\, Rue de Beauvechain 56\, Beauvechain\, 1320\, Belgique
CATEGORIES:Sortie dominicale
ORGANIZER;CN="Marc Timmerman":MAILTO:marc.timmerman@yahoo.fr
END:VEVENT
BEGIN:VEVENT
DTSTART;TZID=UTC:20230507T090000
DTEND;TZID=UTC:20230507T123000
DTSTAMP:20260421T224137
CREATED:20230422T181205Z
LAST-MODIFIED:20230422T181321Z
UID:2480-1683450000-1683462600@www.vcleguidon.be
SUMMARY:10 I Liernu
DESCRIPTION:RELAIS ST MARTIN / LA BRUYERE / HAPPEAU / INCOURT / WASTINES / PERWEZ / AISCHE-EN-REFAIL / LIERNU / GRAND-LEEZ / PERWEZ / ORBAIS / NIL / CORBAIS / CORROY / GISTOUX / BONLEZ / GREZ / HAMME-MILLE / RELAIS ST MARTIN \nParcours Touriste\nParcours Cyclo\nParcours Sport
URL:https://www.vcleguidon.be/agenda/10-i-liernu/
LOCATION:Relais Saint -Martin\, Rue de Beauvechain 56\, Beauvechain\, 1320\, Belgique
CATEGORIES:Sortie dominicale
ORGANIZER;CN="Marc Timmerman":MAILTO:marc.timmerman@yahoo.fr
END:VEVENT
BEGIN:VEVENT
DTSTART;TZID=UTC:20230430T090000
DTEND;TZID=UTC:20230430T150000
DTSTAMP:20260421T224137
CREATED:20230125T084654Z
LAST-MODIFIED:20230422T190245Z
UID:2038-1682845200-1682866800@www.vcleguidon.be
SUMMARY:9 I Sortie spéciale
DESCRIPTION:SORTIE SPECIALE “A TRAVERS LES ARBRES” \nTouristes et cyclos : départ de l’église de Houwaart \,Halderstraat : sans voiture suiveuse \n \nLa camionnette peux charger  4 vélos et les amener au départ.  Elle rejoindra ensuite le groupe alternatif à Vertrijk. Enfin\, elle reviendra chercher les 4 vélos après la rando. \nCircuit Cyclo et Touriste \nCircuit Sport au départ du Relais sans voiture suiveuse
URL:https://www.vcleguidon.be/agenda/9-i-sortie-speciale-avril/
CATEGORIES:Sortie spéciale
ORGANIZER;CN="Marc Timmerman":MAILTO:marc.timmerman@yahoo.fr
END:VEVENT
BEGIN:VEVENT
DTSTART;TZID=UTC:20230430T090000
DTEND;TZID=UTC:20230430T123000
DTSTAMP:20260421T224137
CREATED:20230125T084814Z
LAST-MODIFIED:20230420T052013Z
UID:2040-1682845200-1682857800@www.vcleguidon.be
SUMMARY:9 I Alternative à la sortie spéciale
DESCRIPTION:Sortie alternative (sans camionnette au départ\, elle vous attendra à la gare de Vertrijk)\, pour ceux qui ne participent pas à la sortie spéciale \nRELAIS ST MARTIN / BOUTERSEM / LUBBEEK / HOUWAART / TIELT-WINGE / VISSENAKEN / KUMTICH / MELDERT / RELAIS ST MARTIN \nCircuit commun
URL:https://www.vcleguidon.be/agenda/8-i-alternative-a-la-sortie-speciale/
LOCATION:Relais Saint -Martin\, Rue de Beauvechain 56\, Beauvechain\, 1320\, Belgique
CATEGORIES:Sortie dominicale
ORGANIZER;CN="Marc Timmerman":MAILTO:marc.timmerman@yahoo.fr
END:VEVENT
BEGIN:VEVENT
DTSTART;TZID=UTC:20230423T090000
DTEND;TZID=UTC:20230423T123000
DTSTAMP:20260421T224137
CREATED:20230420T052351Z
LAST-MODIFIED:20230420T052422Z
UID:2456-1682240400-1682253000@www.vcleguidon.be
SUMMARY:8 I Grand-Leez
DESCRIPTION:Circuit Touriste\nCircuit Cyclo\nCircuit Sport
URL:https://www.vcleguidon.be/agenda/8-i-grand-leez/
LOCATION:Relais Saint -Martin\, Rue de Beauvechain 56\, Beauvechain\, 1320\, Belgique
CATEGORIES:Sortie dominicale
ORGANIZER;CN="Marc Timmerman":MAILTO:marc.timmerman@yahoo.fr
END:VEVENT
BEGIN:VEVENT
DTSTART;TZID=UTC:20230416T090000
DTEND;TZID=UTC:20230416T123000
DTSTAMP:20260421T224137
CREATED:20230125T084522Z
LAST-MODIFIED:20230130T171446Z
UID:2036-1681635600-1681648200@www.vcleguidon.be
SUMMARY:7 I Lubbeek
DESCRIPTION:RELAIS ST MARTIN / MELDERT / HOKSEM / OORBEEK / KUMTICH / KERKOM / LUBBEEK / PELLENBERG / KORBEEK-LO / HAASRODE / BLANDEN / ZOET WATER / KORBEEK DIJLE/ NEERIJSE / NETHEN / RELAIS ST MARTIN \nCircuit Touriste\nCircuit Cyclo\nCircuit Sport
URL:https://www.vcleguidon.be/agenda/7-i-lubbeek/
LOCATION:Relais Saint -Martin\, Rue de Beauvechain 56\, Beauvechain\, 1320\, Belgique
CATEGORIES:Sortie dominicale
ORGANIZER;CN="Marc Timmerman":MAILTO:marc.timmerman@yahoo.fr
END:VEVENT
END:VCALENDAR