BEGIN:VCALENDAR
VERSION:2.0
PRODID:-//VC Le guidon - ECPv6.15.12.2//NONSGML v1.0//EN
CALSCALE:GREGORIAN
METHOD:PUBLISH
X-ORIGINAL-URL:https://www.vcleguidon.be
X-WR-CALDESC:Events for VC Le guidon
REFRESH-INTERVAL;VALUE=DURATION:PT1H
X-Robots-Tag:noindex
X-PUBLISHED-TTL:PT1H
BEGIN:VTIMEZONE
TZID:UTC
BEGIN:STANDARD
TZOFFSETFROM:+0000
TZOFFSETTO:+0000
TZNAME:UTC
DTSTART:20250101T000000
END:STANDARD
END:VTIMEZONE
BEGIN:VEVENT
DTSTART;TZID=UTC:20260412T090000
DTEND;TZID=UTC:20260412T120000
DTSTAMP:20260421T200256
CREATED:20260325T131557Z
LAST-MODIFIED:20260406T115406Z
UID:7164-1775984400-1775995200@www.vcleguidon.be
SUMMARY:7 - Glabeek
DESCRIPTION:Touriste routeyou \ncyclo routeyou (Houwaart) \nsport routeyou \nGPX : \ntouriste \ncyclo \nsport
URL:https://www.vcleguidon.be/agenda/6-glabeek/
LOCATION:La Renaissance\, Rue de l'Eglise Saint-Sulpice 5\, Beauvechain\, 1320\, Belgique
CATEGORIES:Sortie dominicale
END:VEVENT
BEGIN:VEVENT
DTSTART;TZID=UTC:20260419T090000
DTEND;TZID=UTC:20260419T120000
DTSTAMP:20260421T200256
CREATED:20260221T093744Z
LAST-MODIFIED:20260418T152604Z
UID:6955-1776589200-1776600000@www.vcleguidon.be
SUMMARY:8 I Sombreffe
DESCRIPTION:Parcours \nTouristes \nCyclos \nSport \nFichiers GPX \nsport \ncyclo \ntouriste
URL:https://www.vcleguidon.be/agenda/6-sombreffe/
LOCATION:Relais Saint -Martin\, Rue de Beauvechain 56\, Beauvechain\, 1320\, Belgique
CATEGORIES:Sortie dominicale
END:VEVENT
BEGIN:VEVENT
DTSTART;TZID=UTC:20260426T090000
DTEND;TZID=UTC:20260426T120000
DTSTAMP:20260421T200256
CREATED:20260418T084457Z
LAST-MODIFIED:20260420T184053Z
UID:7220-1777194000-1777204800@www.vcleguidon.be
SUMMARY:9-LEAU
DESCRIPTION:Parcours RouteYou \nTouristes \nCyclos \nSport \nParcours GPX \nDispos après la reco
URL:https://www.vcleguidon.be/agenda/9-leau/
LOCATION:La Renaissance\, Rue de l'Eglise Saint-Sulpice 5\, Beauvechain\, 1320\, Belgique
CATEGORIES:Sortie dominicale
END:VEVENT
BEGIN:VEVENT
DTSTART;TZID=UTC:20260503T090000
DTEND;TZID=UTC:20260503T120000
DTSTAMP:20260421T200256
CREATED:20260214T103834Z
LAST-MODIFIED:20260418T084952Z
UID:6939-1777798800-1777809600@www.vcleguidon.be
SUMMARY:10 I Zaventem - Kampenhout
DESCRIPTION:Parcours \nTouristes \nCyclos \nSport \nFichiers GPX \nA venir après la reco
URL:https://www.vcleguidon.be/agenda/3-court-saint-etienne/
LOCATION:La Renaissance\, Rue de l'Eglise Saint-Sulpice 5\, Beauvechain\, 1320\, Belgique
CATEGORIES:Sortie dominicale
END:VEVENT
BEGIN:VEVENT
DTSTART;TZID=UTC:20260510T090000
DTEND;TZID=UTC:20260510T120000
DTSTAMP:20260421T200256
CREATED:20260420T184555Z
LAST-MODIFIED:20260420T184555Z
UID:7237-1778403600-1778414400@www.vcleguidon.be
SUMMARY:11 - Overijse
DESCRIPTION:Routeyou : \ntouriste \ncyclo \nsport \nGPX après la reco
URL:https://www.vcleguidon.be/agenda/11-overijse/
LOCATION:La Renaissance\, Rue de l'Eglise Saint-Sulpice 5\, Beauvechain\, 1320\, Belgique
CATEGORIES:Sortie dominicale
END:VEVENT
BEGIN:VEVENT
DTSTART;VALUE=DATE:20260627
DTEND;VALUE=DATE:20260706
DTSTAMP:20260421T200256
CREATED:20260421T142133Z
LAST-MODIFIED:20260421T142133Z
UID:7239-1782518400-1783295999@www.vcleguidon.be
SUMMARY:Semaine Méjannes-le-Clap
DESCRIPTION:Programme déterminé au jour le jour. Première sortie dimanche 28 juin\, dernière samedi 4 juillet\, une journée de repos en semaine. \n\n\nLIENS ROUTEYOU\n\nhttps://www.routeyou.com/fr-fr/route/view/18703693?c=65b79595adca4d6c\n\n\n\n\n\n\nhttps://app.routeyou.com/fr-fr/route/view/18736301?c=d75ef7c21b1f4436 \n\n\n\nhttps://app.routeyou.com/fr-fr/route/view/18023260?c=91cf43d3cd69417e\n\n\nhttps://app.routeyou.com/fr-fr/route/view/18433705?c=47348f3dca6340c3\n\n\nhttps://app.routeyou.com/fr-fr/route/view/18023286?c=14003e6c7fb34194\n\n\nhttps://app.routeyou.com/fr-fr/route/view/18023308?c=1861b18865304434\n\n\nhttps://app.routeyou.com/fr-fr/route/view/18023348?c=07684cd00b004a2a\n\n\n\n\nLIENS GARMIN\n\nhttps://connect.garmin.com/modern/course/451790238\n\n\nhttps://connect.garmin.com/modern/course/451790403\n\n\nhttps://connect.garmin.com/modern/course/451790534\n\n\nhttps://connect.garmin.com/modern/course/451790681\n\n\nhttps://connect.garmin.com/modern/course/451790829\n\n\nhttps://connect.garmin.com/modern/course/451791003\n\n\nhttps://connect.garmin.com/modern/course/451791174\n\n 
URL:https://www.vcleguidon.be/agenda/semaine-mejannes-le-clap/
LOCATION:Méjannes-le-Clap\, Méjannes-le-Clap\, 30430\, France
CATEGORIES:Événement
END:VEVENT
BEGIN:VEVENT
DTSTART;TZID=UTC:20260919T100000
DTEND;TZID=UTC:20260919T190000
DTSTAMP:20260421T200256
CREATED:20260315T154755Z
LAST-MODIFIED:20260315T155603Z
UID:7118-1789812000-1789844400@www.vcleguidon.be
SUMMARY:CLM 2026
DESCRIPTION:  \n🚴‍♂️ SAVE THE DATE ! \nLa rentrée 2026 va faire parler la poussière… 🌪️ \nLe VC Le Guidon Beauvechain vous donne rendez-vous pour son CLM Gravel – Contre-la-Montre ! \n📍 Beauvechain\n📅 Samedi 19 septembre 2026 \nUn défi unique pour les amateurs de gravel :\n⏱️ un parcours à affronter contre le chrono\,\n🔥 de la vitesse\, de la technique et beaucoup de plaisir ! \nQue vous soyez compétiteur ou passionné de gravel\, notez déjà la date dans votre agenda 🗓️ \n👉 Les inscriptions et infos arriveront très bientôt ! \n🌐 www.vcleguidon.be \n#Gravel #CLMGravel #Beauvechain #Cycling #GravelRacing #SaveTheDate #VCLeGuidon
URL:https://www.vcleguidon.be/agenda/clm-2026/
LOCATION:Maison rurale de l’Écluse\, Rue de Gaët\, 25\, L'Écluse\, 1320\, Belgium
CATEGORIES:Activité
END:VEVENT
END:VCALENDAR