BEGIN:VCALENDAR
VERSION:2.0
PRODID:-//VC Le guidon - ECPv6.15.12.2//NONSGML v1.0//EN
CALSCALE:GREGORIAN
METHOD:PUBLISH
X-ORIGINAL-URL:https://www.vcleguidon.be
X-WR-CALDESC:Events for VC Le guidon
REFRESH-INTERVAL;VALUE=DURATION:PT1H
X-Robots-Tag:noindex
X-PUBLISHED-TTL:PT1H
BEGIN:VTIMEZONE
TZID:UTC
BEGIN:STANDARD
TZOFFSETFROM:+0000
TZOFFSETTO:+0000
TZNAME:UTC
DTSTART:20250101T000000
END:STANDARD
END:VTIMEZONE
BEGIN:VEVENT
DTSTART;TZID=UTC:20260405T090000
DTEND;TZID=UTC:20260405T120000
DTSTAMP:20260421T124545
CREATED:20260214T105047Z
LAST-MODIFIED:20260402T134810Z
UID:6941-1775379600-1775390400@www.vcleguidon.be
SUMMARY:6 I Walsbets
DESCRIPTION:Parcours \nTouristes \nCyclos \nSport \ngpx touriste \ngpx cyclo  \n gpx sport \n 
URL:https://www.vcleguidon.be/agenda/5-walsbets/
LOCATION:La Renaissance\, Rue de l'Eglise Saint-Sulpice 5\, Beauvechain\, 1320\, Belgique
CATEGORIES:Sortie dominicale
END:VEVENT
END:VCALENDAR