BEGIN:VCALENDAR
VERSION:2.0
PRODID:-//VC Le guidon - ECPv6.15.12.2//NONSGML v1.0//EN
CALSCALE:GREGORIAN
METHOD:PUBLISH
X-WR-CALNAME:VC Le guidon
X-ORIGINAL-URL:https://www.vcleguidon.be
X-WR-CALDESC:Events for VC Le guidon
REFRESH-INTERVAL;VALUE=DURATION:PT1H
X-Robots-Tag:noindex
X-PUBLISHED-TTL:PT1H
BEGIN:VTIMEZONE
TZID:UTC
BEGIN:STANDARD
TZOFFSETFROM:+0000
TZOFFSETTO:+0000
TZNAME:UTC
DTSTART:20250101T000000
END:STANDARD
END:VTIMEZONE
BEGIN:VEVENT
DTSTART;TZID=UTC:20260322T090000
DTEND;TZID=UTC:20260322T120000
DTSTAMP:20260422T035705
CREATED:20260221T093210Z
LAST-MODIFIED:20260318T124531Z
UID:6952-1774170000-1774180800@www.vcleguidon.be
SUMMARY:4 I Wasseiges
DESCRIPTION:Parcours \nTouristes \nCyclos \nSport \ntouriste gpx \ncyclo gpx \nsport gpx
URL:https://www.vcleguidon.be/agenda/4-wasseiges/
LOCATION:Relais Saint -Martin\, Rue de Beauvechain 56\, Beauvechain\, 1320\, Belgique
CATEGORIES:Sortie dominicale
END:VEVENT
END:VCALENDAR